BEGIN:VCALENDAR
VERSION:2.0
PRODID:-//ACG//Events//EN
CALSCALE:GREGORIAN
METHOD:PUBLISH
BEGIN:VTIMEZONE
TZID:America/Chicago
BEGIN:STANDARD
DTSTART:19701025T070000
TZOFFSETTO:-0600
TZOFFSETFROM:-0500
RRULE:FREQ=YEARLY;BYMONTH=11;BYDAY=1SU
END:STANDARD
BEGIN:DAYLIGHT
DTSTART:19700426T080000
TZOFFSETTO:-0500
TZOFFSETFROM:-0600
RRULE:FREQ=YEARLY;BYMONTH=3;BYDAY=2SU
END:DAYLIGHT
END:VTIMEZONE
BEGIN:VEVENT
UID:2025-ACG-NEBRASKA-YOUNG-ACG-SPRING-HAPPY-HOUR
DTSTART;TZID=America/Chicago:20250508T160046
DTEND;TZID=America/Chicago:20250508T180057
STATUS:CONFIRMED
SUMMARY:2025 ACG Nebraska Young ACG Spring Happy Hour
DESCRIPTION:
LOCATION:Cottonwood Hotel Pool Club\n302 South 36th Street\nOmaha\\, N
 E 68131
URL:https://www.acg.org/nebraska/events/2025-acg-nebraska-young-acg-sp
 ring-happy-hour
DTSTAMP:20260421T235757Z
END:VEVENT
END:VCALENDAR
