BEGIN:VCALENDAR
VERSION:2.0
PRODID:-//ACG//Events//EN
CALSCALE:GREGORIAN
METHOD:PUBLISH
BEGIN:VTIMEZONE
TZID:US/Mountain
BEGIN:STANDARD
DTSTART:19701025T080000
TZOFFSETTO:-0700
TZOFFSETFROM:-0600
RRULE:FREQ=YEARLY;BYMONTH=11;BYDAY=1SU
END:STANDARD
BEGIN:DAYLIGHT
DTSTART:19700426T090000
TZOFFSETTO:-0600
TZOFFSETFROM:-0700
RRULE:FREQ=YEARLY;BYMONTH=3;BYDAY=2SU
END:DAYLIGHT
END:VTIMEZONE
BEGIN:VEVENT
UID:MAY-2025-UTAH-BREAKFAST-SPEAKER-SERIES
DTSTART;TZID=US/Mountain:20250513T080053
DTEND;TZID=US/Mountain:20250513T093053
STATUS:CONFIRMED
SUMMARY:May 2025 Utah Breakfast Speaker Series
DESCRIPTION:
LOCATION:Easton Salt Lake Archery Center\n575 John Glenn Road\nSalt La
 ke City\\, UT 84116
URL:https://www.acg.org/utah/events/may-2025-utah-breakfast-speaker-series
DTSTAMP:20260422T000146Z
END:VEVENT
END:VCALENDAR
