BEGIN:VCALENDAR
VERSION:2.0
PRODID:-//ACG//Events//EN
CALSCALE:GREGORIAN
METHOD:PUBLISH
BEGIN:VTIMEZONE
TZID:America/New_York
BEGIN:STANDARD
DTSTART:19701025T060000
TZOFFSETTO:-0500
TZOFFSETFROM:-0400
RRULE:FREQ=YEARLY;BYMONTH=11;BYDAY=1SU
END:STANDARD
BEGIN:DAYLIGHT
DTSTART:19700426T070000
TZOFFSETTO:-0400
TZOFFSETFROM:-0500
RRULE:FREQ=YEARLY;BYMONTH=3;BYDAY=2SU
END:DAYLIGHT
END:VTIMEZONE
BEGIN:VEVENT
UID:ACG-TAMPA-BAY-2025-HOLIDAY-PARTY-MEMBERS-ONLY
DTSTART;TZID=America/New_York:20251209T173047
DTEND;TZID=America/New_York:20251209T200047
STATUS:CONFIRMED
SUMMARY:ACG Tampa Bay 2025 Holiday Party (members only)
DESCRIPTION:
LOCATION:Palma Ceia Golf & Country Club\n1601 South MacDill Avenue\nTa
 mpa\\, FL 33629
URL:https://www.acg.org/tampabay/events/acg-tampa-bay-2025-holiday-par
 ty-members-only
DTSTAMP:20260420T142536Z
END:VEVENT
END:VCALENDAR
