BEGIN:VCALENDAR
VERSION:2.0
PRODID:-//ACG//Events//EN
CALSCALE:GREGORIAN
METHOD:PUBLISH
BEGIN:VTIMEZONE
TZID:America/Chicago
BEGIN:STANDARD
DTSTART:19701025T070000
TZOFFSETTO:-0600
TZOFFSETFROM:-0500
RRULE:FREQ=YEARLY;BYMONTH=11;BYDAY=1SU
END:STANDARD
BEGIN:DAYLIGHT
DTSTART:19700426T080000
TZOFFSETTO:-0500
TZOFFSETFROM:-0600
RRULE:FREQ=YEARLY;BYMONTH=3;BYDAY=2SU
END:DAYLIGHT
END:VTIMEZONE
BEGIN:VEVENT
UID:2025-APRIL-23RD-ACG-ASA-NEXTGEN-S-COFFEE-IN-AUSTIN
DTSTART;TZID=America/Chicago:20250423T083056
DTEND;TZID=America/Chicago:20250423T100008
STATUS:CONFIRMED
SUMMARY:2025 April 23rd ACG ASA NextGen's Coffee in Austin
DESCRIPTION:
LOCATION:Easy Tiger on South Lamar\n3508 South Lamar Boulevard\nAustin
 \\, TX 78704
URL:https://www.acg.org/asa/events/2025-april-23rd-acg-asa-nextgens-co
 ffee-austin
DTSTAMP:20260422T040620Z
END:VEVENT
END:VCALENDAR
