BEGIN:VCALENDAR
VERSION:2.0
PRODID:-//ACG//Events//EN
CALSCALE:GREGORIAN
METHOD:PUBLISH
BEGIN:VTIMEZONE
TZID:America/Phoenix
BEGIN:STANDARD
DTSTART:19700101T060000
TZOFFSETTO:-0700
TZOFFSETFROM:-0700
END:STANDARD
END:VTIMEZONE
BEGIN:VEVENT
UID:2025-ACG-ARIZONA-MIDDLE-MARKET-MAY-RECEPTION
DTSTART;TZID=America/Phoenix:20250513T170023
DTEND;TZID=America/Phoenix:20250513T193001
STATUS:CONFIRMED
SUMMARY:2025 ACG Arizona Middle Market May Reception
DESCRIPTION:
URL:https://www.acg.org/arizona/events/2025-acg-arizona-middle-market-
 may-reception
DTSTAMP:20260422T000145Z
END:VEVENT
END:VCALENDAR
