BEGIN:VCALENDAR
VERSION:2.0
PRODID:-//ACG//Events//EN
CALSCALE:GREGORIAN
METHOD:PUBLISH
BEGIN:VTIMEZONE
TZID:America/Chicago
BEGIN:STANDARD
DTSTART:19701025T070000
TZOFFSETTO:-0600
TZOFFSETFROM:-0500
RRULE:FREQ=YEARLY;BYMONTH=11;BYDAY=1SU
END:STANDARD
BEGIN:DAYLIGHT
DTSTART:19700426T080000
TZOFFSETTO:-0500
TZOFFSETFROM:-0600
RRULE:FREQ=YEARLY;BYMONTH=3;BYDAY=2SU
END:DAYLIGHT
END:VTIMEZONE
BEGIN:VEVENT
UID:2025-MAY-8TH-ACG-ASA-NEXTGEN-S-COFFEE-IN-S-A
DTSTART;TZID=America/Chicago:20250508T090024
DTEND;TZID=America/Chicago:20250508T103034
STATUS:CONFIRMED
SUMMARY:2025 May 8th ACG ASA NextGen's Coffee in S.A.
DESCRIPTION:
LOCATION:Jardin @ the San Antonio Botanical Garden\n555 Funston Place\
 nSan Antonio\\, TX 78209
URL:https://www.acg.org/asa/events/2025-may-8th-acg-asa-nextgens-coffee-sa
DTSTAMP:20260422T000145Z
END:VEVENT
END:VCALENDAR
