BEGIN:VCALENDAR
VERSION:2.0
PRODID:-//ACG//Events//EN
CALSCALE:GREGORIAN
METHOD:PUBLISH
BEGIN:VTIMEZONE
TZID:America/New_York
BEGIN:STANDARD
DTSTART:19701025T060000
TZOFFSETTO:-0500
TZOFFSETFROM:-0400
RRULE:FREQ=YEARLY;BYMONTH=11;BYDAY=1SU
END:STANDARD
BEGIN:DAYLIGHT
DTSTART:19700426T070000
TZOFFSETTO:-0400
TZOFFSETFROM:-0500
RRULE:FREQ=YEARLY;BYMONTH=3;BYDAY=2SU
END:DAYLIGHT
END:VTIMEZONE
BEGIN:VEVENT
UID:144755
DTSTART;TZID=America/New_York:20250908T090000
DTEND;TZID=America/New_York:20250909T130000
STATUS:CONFIRMED
SUMMARY:ACG New England Conference 2025
DESCRIPTION:
LOCATION:Newport Harbor Island Resort\n1 Goat Island\nNewport\\, RI 02840
URL:https://www.acg.org/boston/events/acg-new-england-conference-2025-0
DTSTAMP:20260423T184703Z
END:VEVENT
END:VCALENDAR
