BEGIN:VCALENDAR
VERSION:2.0
PRODID:-//ACG//Events//EN
CALSCALE:GREGORIAN
METHOD:PUBLISH
BEGIN:VTIMEZONE
TZID:America/New_York
BEGIN:STANDARD
DTSTART:19701025T060000
TZOFFSETTO:-0500
TZOFFSETFROM:-0400
RRULE:FREQ=YEARLY;BYMONTH=11;BYDAY=1SU
END:STANDARD
BEGIN:DAYLIGHT
DTSTART:19700426T070000
TZOFFSETTO:-0400
TZOFFSETFROM:-0500
RRULE:FREQ=YEARLY;BYMONTH=3;BYDAY=2SU
END:DAYLIGHT
END:VTIMEZONE
BEGIN:VEVENT
UID:6-6-25-NATIONALS-VS-RANGERS-NEXTGEN-NETWORKING-NIGHT
DTSTART;TZID=America/New_York:20250606T184534
DTEND;TZID=America/New_York:20250606T220034
STATUS:CONFIRMED
SUMMARY:6-6-25 Nationals vs Rangers: NextGen Networking Night
DESCRIPTION:
LOCATION:Nationals Park\n1500 South Capitol Street SE\nWashington\\, D
 C 20003
URL:https://www.acg.org/national-capital/events/6-6-25-nationals-vs-ra
 ngers-nextgen-networking-night
DTSTAMP:20260421T181914Z
END:VEVENT
END:VCALENDAR
