BEGIN:VCALENDAR
VERSION:2.0
PRODID:-//ACG//Events//EN
CALSCALE:GREGORIAN
METHOD:PUBLISH
BEGIN:VTIMEZONE
TZID:America/New_York
BEGIN:STANDARD
DTSTART:19701025T060000
TZOFFSETTO:-0500
TZOFFSETFROM:-0400
RRULE:FREQ=YEARLY;BYMONTH=11;BYDAY=1SU
END:STANDARD
BEGIN:DAYLIGHT
DTSTART:19700426T070000
TZOFFSETTO:-0400
TZOFFSETFROM:-0500
RRULE:FREQ=YEARLY;BYMONTH=3;BYDAY=2SU
END:DAYLIGHT
END:VTIMEZONE
BEGIN:VEVENT
UID:MAY-22-2025-ACG-757-LUNCHEON-PANEL-DISCUSSION-THE-EVOLVING-LANDSCA
 PE-OF-BUSINESS-DEVELOPMENT-IN-GOVERNMENT-DOD-CONTRACTING
DTSTART;TZID=America/New_York:20250522T113009
DTEND;TZID=America/New_York:20250522T133019
STATUS:CONFIRMED
SUMMARY:May 22\, 2025 ACG 757 Luncheon: Panel Discussion:  The Evolvin
 g Landscape of Business Development  in Government & DoD Contracting
DESCRIPTION:
LOCATION:Town Point Club\n101 West Main Street\nNorfolk\\, VA 23510
URL:https://www.acg.org/757-network/events/may-22-2025-acg-757-luncheo
 n-panel-discussion-evolving-landscape-business
DTSTAMP:20260421T221029Z
END:VEVENT
END:VCALENDAR
