BEGIN:VCALENDAR
VERSION:2.0
PRODID:-//ACG//Events//EN
CALSCALE:GREGORIAN
METHOD:PUBLISH
BEGIN:VTIMEZONE
TZID:America/New_York
BEGIN:STANDARD
DTSTART:19701025T060000
TZOFFSETTO:-0500
TZOFFSETFROM:-0400
RRULE:FREQ=YEARLY;BYMONTH=11;BYDAY=1SU
END:STANDARD
BEGIN:DAYLIGHT
DTSTART:19700426T070000
TZOFFSETTO:-0400
TZOFFSETFROM:-0500
RRULE:FREQ=YEARLY;BYMONTH=3;BYDAY=2SU
END:DAYLIGHT
END:VTIMEZONE
BEGIN:VEVENT
UID:AN-AFTERNOON-AT-CRIMSON-LANE-VINEYARDS-NEXTGEN-NETWORKING-WITH-A-VIEW
DTSTART;TZID=America/New_York:20250613T143017
DTEND;TZID=America/New_York:20250613T170017
STATUS:CONFIRMED
SUMMARY:An Afternoon at Crimson Lane Vineyards: NextGen Networking wit
 h a View
DESCRIPTION:
LOCATION:Crimson Lane Vineyards\n13334 Crimson Lane
URL:https://www.acg.org/national-capital/events/afternoon-crimson-lane
 -vineyards-nextgen-networking-view
DTSTAMP:20260421T200633Z
END:VEVENT
END:VCALENDAR
