BEGIN:VCALENDAR
VERSION:2.0
PRODID:-//ACG//Events//EN
CALSCALE:GREGORIAN
METHOD:PUBLISH
BEGIN:VTIMEZONE
TZID:America/New_York
BEGIN:STANDARD
DTSTART:19701025T060000
TZOFFSETTO:-0500
TZOFFSETFROM:-0400
RRULE:FREQ=YEARLY;BYMONTH=11;BYDAY=1SU
END:STANDARD
BEGIN:DAYLIGHT
DTSTART:19700426T070000
TZOFFSETTO:-0400
TZOFFSETFROM:-0500
RRULE:FREQ=YEARLY;BYMONTH=3;BYDAY=2SU
END:DAYLIGHT
END:VTIMEZONE
BEGIN:VEVENT
UID:ACG-NEXTGEN-VOLUNTEER-DAY-2025-DC-CENTRAL-KITCHEN
DTSTART;TZID=America/New_York:20250725T140004
DTEND;TZID=America/New_York:20250725T160020
STATUS:CONFIRMED
SUMMARY:ACG NextGen Volunteer Day 2025 - DC Central Kitchen
DESCRIPTION:
LOCATION:DC Central Kitchen\n2121 First Street Southwest\nWashington\\
 , DC 20024
URL:https://www.acg.org/national-capital/events/acg-nextgen-volunteer-
 day-2025-dc-central-kitchen
DTSTAMP:20260421T123841Z
END:VEVENT
END:VCALENDAR
