BEGIN:VCALENDAR
VERSION:2.0
PRODID:-//ACG//Events//EN
CALSCALE:GREGORIAN
METHOD:PUBLISH
BEGIN:VTIMEZONE
TZID:America/Chicago
BEGIN:STANDARD
DTSTART:19701025T070000
TZOFFSETTO:-0600
TZOFFSETFROM:-0500
RRULE:FREQ=YEARLY;BYMONTH=11;BYDAY=1SU
END:STANDARD
BEGIN:DAYLIGHT
DTSTART:19700426T080000
TZOFFSETTO:-0500
TZOFFSETFROM:-0600
RRULE:FREQ=YEARLY;BYMONTH=3;BYDAY=2SU
END:DAYLIGHT
END:VTIMEZONE
BEGIN:VEVENT
UID:2025-STL-PLATINUM-GOLD-SPONSOR-APPRECIATION-BY-INVITATION-ONLY
DTSTART;TZID=America/Chicago:20250924T180010
DTEND;TZID=America/Chicago:20250924T210032
STATUS:CONFIRMED
SUMMARY:2025 STL | Platinum & Gold Sponsor Appreciation (By Invitation
  Only)
DESCRIPTION:
LOCATION:Third Degree Glass Factory\n5200 Delmar Boulevard\nSt. Louis\
 \, MO 63108
URL:https://www.acg.org/stlouis/events/2025-stl-platinum-gold-sponsor-
 appreciation-invitation-only
DTSTAMP:20260421T050014Z
END:VEVENT
END:VCALENDAR
