BEGIN:VCALENDAR
VERSION:2.0
PRODID:-//ACG//Events//EN
CALSCALE:GREGORIAN
METHOD:PUBLISH
BEGIN:VTIMEZONE
TZID:America/Chicago
BEGIN:STANDARD
DTSTART:19701025T070000
TZOFFSETTO:-0600
TZOFFSETFROM:-0500
RRULE:FREQ=YEARLY;BYMONTH=11;BYDAY=1SU
END:STANDARD
BEGIN:DAYLIGHT
DTSTART:19700426T080000
TZOFFSETTO:-0500
TZOFFSETFROM:-0600
RRULE:FREQ=YEARLY;BYMONTH=3;BYDAY=2SU
END:DAYLIGHT
END:VTIMEZONE
BEGIN:VEVENT
UID:2025-ACG-WI-NEXTGEN-AI-UNBOXED
DTSTART;TZID=America/Chicago:20250514T080015
DTEND;TZID=America/Chicago:20250514T093009
STATUS:CONFIRMED
SUMMARY:2025 ACG WI NextGen | AI Unboxed: New Perspectives\, Practical
  Tools\, and Your Questions Answered
DESCRIPTION:
LOCATION:Godfrey and Kahn\, S.C.\n833 East Michigan Street\nMilwaukee\
 \, WI 53202
URL:https://www.acg.org/wisconsin/events/2025-acg-wi-nextgen-ai-unboxe
 d-new-perspectives-practical-tools-and-your-questions
DTSTAMP:20260422T000144Z
END:VEVENT
END:VCALENDAR
