BEGIN:VCALENDAR
VERSION:2.0
PRODID:-//ACG//Events//EN
CALSCALE:GREGORIAN
METHOD:PUBLISH
BEGIN:VTIMEZONE
TZID:America/New_York
BEGIN:STANDARD
DTSTART:19701025T060000
TZOFFSETTO:-0500
TZOFFSETFROM:-0400
RRULE:FREQ=YEARLY;BYMONTH=11;BYDAY=1SU
END:STANDARD
BEGIN:DAYLIGHT
DTSTART:19700426T070000
TZOFFSETTO:-0400
TZOFFSETFROM:-0500
RRULE:FREQ=YEARLY;BYMONTH=3;BYDAY=2SU
END:DAYLIGHT
END:VTIMEZONE
BEGIN:VEVENT
UID:YACG-TMA-NEXTGEN-YOUNG-PROFESSIONAL-SPRING-MIXER
DTSTART;TZID=America/New_York:20250529T173054
DTEND;TZID=America/New_York:20250529T193008
STATUS:CONFIRMED
SUMMARY:YACG & TMA NextGen Young Professional Spring Social
DESCRIPTION:
LOCATION:The Porch - Winter Park\n643 North Orange Avenue\nOrlando\\, 
 FL 32801
URL:https://www.acg.org/orlando/events/yacg-tma-nextgen-young-professi
 onal-spring-social
DTSTAMP:20260421T220255Z
END:VEVENT
END:VCALENDAR
