BEGIN:VCALENDAR
VERSION:2.0
PRODID:-//ACG//Events//EN
CALSCALE:GREGORIAN
METHOD:PUBLISH
BEGIN:VTIMEZONE
TZID:America/New_York
BEGIN:STANDARD
DTSTART:19701025T060000
TZOFFSETTO:-0500
TZOFFSETFROM:-0400
RRULE:FREQ=YEARLY;BYMONTH=11;BYDAY=1SU
END:STANDARD
BEGIN:DAYLIGHT
DTSTART:19700426T070000
TZOFFSETTO:-0400
TZOFFSETFROM:-0500
RRULE:FREQ=YEARLY;BYMONTH=3;BYDAY=2SU
END:DAYLIGHT
END:VTIMEZONE
BEGIN:VEVENT
UID:ACG-ORLANDO-PROGRESSIVE-LUNCH-JULY-2025
DTSTART;TZID=America/New_York:20250715T113037
DTEND;TZID=America/New_York:20250715T133046
STATUS:CONFIRMED
SUMMARY:ACG Orlando Progressive Lunch (July 2025)
DESCRIPTION:
LOCATION:Blu on the Avenue\n326 South Park Avenue\nWinter Park\\, FL 32789
URL:https://www.acg.org/orlando/events/acg-orlando-progressive-lunch-j
 uly-2025
DTSTAMP:20260421T135700Z
END:VEVENT
END:VCALENDAR
