BEGIN:VCALENDAR
VERSION:2.0
PRODID:-//ACG//Events//EN
CALSCALE:GREGORIAN
METHOD:PUBLISH
BEGIN:VTIMEZONE
TZID:America/New_York
BEGIN:STANDARD
DTSTART:19701025T060000
TZOFFSETTO:-0500
TZOFFSETFROM:-0400
RRULE:FREQ=YEARLY;BYMONTH=11;BYDAY=1SU
END:STANDARD
BEGIN:DAYLIGHT
DTSTART:19700426T070000
TZOFFSETTO:-0400
TZOFFSETFROM:-0500
RRULE:FREQ=YEARLY;BYMONTH=3;BYDAY=2SU
END:DAYLIGHT
END:VTIMEZONE
BEGIN:VEVENT
UID:6TH-ANNUAL-TACO-TEQUILA-SOCIAL-WITH-TMA-FLORIDA
DTSTART;TZID=America/New_York:20250819T173005
DTEND;TZID=America/New_York:20250819T193038
STATUS:CONFIRMED
SUMMARY:6th Annual Taco & Tequila Social with TMA Florida
DESCRIPTION:
LOCATION:Cocina 214\n151 East Welbourne Avenue\nWinter Park\\, FL 32789
URL:https://www.acg.org/orlando/events/6th-annual-taco-tequila-social-
 tma-florida
DTSTAMP:20260421T095139Z
END:VEVENT
END:VCALENDAR
