BEGIN:VCALENDAR
VERSION:2.0
PRODID:-//ACG//Events//EN
CALSCALE:GREGORIAN
METHOD:PUBLISH
BEGIN:VTIMEZONE
TZID:America/New_York
BEGIN:STANDARD
DTSTART:19701025T060000
TZOFFSETTO:-0500
TZOFFSETFROM:-0400
RRULE:FREQ=YEARLY;BYMONTH=11;BYDAY=1SU
END:STANDARD
BEGIN:DAYLIGHT
DTSTART:19700426T070000
TZOFFSETTO:-0400
TZOFFSETFROM:-0500
RRULE:FREQ=YEARLY;BYMONTH=3;BYDAY=2SU
END:DAYLIGHT
END:VTIMEZONE
BEGIN:VEVENT
UID:2025-ACG-MARYLAND-SPEAKER-SERIES-FEATURING-TODD-MARKS-WITH-MINDGRUB
DTSTART;TZID=America/New_York:20250605T173059
DTEND;TZID=America/New_York:20250605T203059
STATUS:CONFIRMED
SUMMARY:2025 ACG Maryland - Speaker Series Featuring Todd Marks with M
 indgrub
DESCRIPTION:
URL:https://www.acg.org/maryland/events/2025-acg-maryland-speaker-seri
 es-featuring-todd-marks-mindgrub
DTSTAMP:20260421T201715Z
END:VEVENT
END:VCALENDAR
