BEGIN:VCALENDAR
VERSION:2.0
PRODID:-//ACG//Events//EN
CALSCALE:GREGORIAN
METHOD:PUBLISH
BEGIN:VTIMEZONE
TZID:America/New_York
BEGIN:STANDARD
DTSTART:19701025T060000
TZOFFSETTO:-0500
TZOFFSETFROM:-0400
RRULE:FREQ=YEARLY;BYMONTH=11;BYDAY=1SU
END:STANDARD
BEGIN:DAYLIGHT
DTSTART:19700426T070000
TZOFFSETTO:-0400
TZOFFSETFROM:-0500
RRULE:FREQ=YEARLY;BYMONTH=3;BYDAY=2SU
END:DAYLIGHT
END:VTIMEZONE
BEGIN:VEVENT
UID:ACG-CT-AND-ACG-NY-SUMMER-POLO-MATCH-AT-GREENWICH-POLO-CLUB
DTSTART;TZID=America/New_York:20250824T130047
DTEND;TZID=America/New_York:20250824T170047
STATUS:CONFIRMED
SUMMARY:[SOLD OUT] ACG CT and ACG NY Summer Polo Match at Greenwich Po
 lo Club
DESCRIPTION:
LOCATION:Greenwich Polo Club\n1 Hurlingham Drive\nGreenwich\\, CT 06831
URL:https://www.acg.org/connecticut/events/sold-out-acg-ct-and-acg-ny-
 summer-polo-match-greenwich-polo-club
DTSTAMP:20260423T103448Z
END:VEVENT
END:VCALENDAR
