BEGIN:VCALENDAR
VERSION:2.0
PRODID:-//ACG//Events//EN
CALSCALE:GREGORIAN
METHOD:PUBLISH
BEGIN:VTIMEZONE
TZID:America/Indiana/Indianapolis
BEGIN:STANDARD
DTSTART:19701025T060000
TZOFFSETTO:-0500
TZOFFSETFROM:-0400
RRULE:FREQ=YEARLY;BYMONTH=11;BYDAY=1SU
END:STANDARD
BEGIN:DAYLIGHT
DTSTART:19700426T070000
TZOFFSETTO:-0400
TZOFFSETFROM:-0500
RRULE:FREQ=YEARLY;BYMONTH=3;BYDAY=2SU
END:DAYLIGHT
END:VTIMEZONE
BEGIN:VEVENT
UID:144907
DTSTART;TZID=America/Indiana/Indianapolis:20250625T160000
DTEND;TZID=America/Indiana/Indianapolis:20250625T190000
STATUS:CONFIRMED
SUMMARY:Merging Minds: The Future of CPA Firm Consolidation
DESCRIPTION:
LOCATION:West Fork Whiskey \n
URL:https://www.acg.org/indiana/events/merging-minds-future-cpa-firm-c
 onsolidation
DTSTAMP:20260423T121409Z
END:VEVENT
END:VCALENDAR
