BEGIN:VCALENDAR
VERSION:2.0
PRODID:-//ACG//Events//EN
CALSCALE:GREGORIAN
METHOD:PUBLISH
BEGIN:VTIMEZONE
TZID:America/New_York
BEGIN:STANDARD
DTSTART:19701025T060000
TZOFFSETTO:-0500
TZOFFSETFROM:-0400
RRULE:FREQ=YEARLY;BYMONTH=11;BYDAY=1SU
END:STANDARD
BEGIN:DAYLIGHT
DTSTART:19700426T070000
TZOFFSETTO:-0400
TZOFFSETFROM:-0500
RRULE:FREQ=YEARLY;BYMONTH=3;BYDAY=2SU
END:DAYLIGHT
END:VTIMEZONE
BEGIN:VEVENT
UID:JUNE-5-HAPPY-HOUR-AT-THE-SHACK
DTSTART;TZID=America/New_York:20250605T163008
DTEND;TZID=America/New_York:20250605T183024
STATUS:CONFIRMED
SUMMARY:Thursday\, June 5\, 2025: Summer Kickoff Happy Hour at The Shack
DESCRIPTION:
LOCATION:The Shack\n712 Atlantic Avenue\nVirginia Beach\\, VA 23451
URL:https://www.acg.org/757-network/events/thursday-june-5-2025-summer
 -kickoff-happy-hour-shack
DTSTAMP:20260421T201734Z
END:VEVENT
END:VCALENDAR
