BEGIN:VCALENDAR
VERSION:2.0
PRODID:-//ACG//Events//EN
CALSCALE:GREGORIAN
METHOD:PUBLISH
BEGIN:VTIMEZONE
TZID:America/New_York
BEGIN:STANDARD
DTSTART:19701025T060000
TZOFFSETTO:-0500
TZOFFSETFROM:-0400
RRULE:FREQ=YEARLY;BYMONTH=11;BYDAY=1SU
END:STANDARD
BEGIN:DAYLIGHT
DTSTART:19700426T070000
TZOFFSETTO:-0400
TZOFFSETFROM:-0500
RRULE:FREQ=YEARLY;BYMONTH=3;BYDAY=2SU
END:DAYLIGHT
END:VTIMEZONE
BEGIN:VEVENT
UID:ACG-PITTSBURGH-2025-PIRATES-GAME
DTSTART;TZID=America/New_York:20250916T180007
DTEND;TZID=America/New_York:20250916T210026
STATUS:CONFIRMED
SUMMARY:ACG Pittsburgh 2025 Pirates Game
DESCRIPTION:
LOCATION:PNC Park\n115 Federal Street\nPittsburgh\\, PA 15212
URL:https://www.acg.org/pittsburgh/events/acg-pittsburgh-2025-pirates-game
DTSTAMP:20260423T164016Z
END:VEVENT
END:VCALENDAR
