BEGIN:VCALENDAR
VERSION:2.0
PRODID:-//ACG//Events//EN
CALSCALE:GREGORIAN
METHOD:PUBLISH
BEGIN:VTIMEZONE
TZID:America/New_York
BEGIN:STANDARD
DTSTART:19701025T060000
TZOFFSETTO:-0500
TZOFFSETFROM:-0400
RRULE:FREQ=YEARLY;BYMONTH=11;BYDAY=1SU
END:STANDARD
BEGIN:DAYLIGHT
DTSTART:19700426T070000
TZOFFSETTO:-0400
TZOFFSETFROM:-0500
RRULE:FREQ=YEARLY;BYMONTH=3;BYDAY=2SU
END:DAYLIGHT
END:VTIMEZONE
BEGIN:VEVENT
UID:ACG-CT-YOUNG-PROFESSIONALS-EVENT-OCTOBER-2025
DTSTART;TZID=America/New_York:20251016T180007
DTEND;TZID=America/New_York:20251016T200007
STATUS:CONFIRMED
SUMMARY:ACG CT Young Professionals Event | Harvest on the Rooftop | Oc
 tober 16\, 2025
DESCRIPTION:
LOCATION:Sign of the Whale Restaurant & Rooftop\n6 Harbor Point Road\n
 Stamford\\, CT 06902
URL:https://www.acg.org/connecticut/events/acg-ct-young-professionals-
 event-harvest-rooftop-october-16-2025
DTSTAMP:20260420T231530Z
END:VEVENT
END:VCALENDAR
