BEGIN:VCALENDAR
VERSION:2.0
PRODID:-//ACG//Events//EN
CALSCALE:GREGORIAN
METHOD:PUBLISH
BEGIN:VTIMEZONE
TZID:America/Detroit
BEGIN:STANDARD
DTSTART:19700101T060000
TZOFFSETTO:-0500
TZOFFSETFROM:-0500
END:STANDARD
END:VTIMEZONE
BEGIN:VEVENT
UID:144970
DTSTART;TZID=America/Detroit:20250611T073000
DTEND;TZID=America/Detroit:20250611T090000
STATUS:CONFIRMED
SUMMARY:New Member Connect 
DESCRIPTION:
LOCATION:Ferris Coffee & Nut\nFerris Coffee & Nut\n839 Seward Ave\, NW
 \nGrand Rapids\\, MI 49504
URL:https://www.acg.org/wmich/events/new-member-connect
DTSTAMP:20260421T201926Z
END:VEVENT
END:VCALENDAR
