BEGIN:VCALENDAR
VERSION:2.0
PRODID:-//ACG//Events//EN
CALSCALE:GREGORIAN
METHOD:PUBLISH
BEGIN:VTIMEZONE
TZID:America/Los_Angeles
BEGIN:STANDARD
DTSTART:19701025T090000
TZOFFSETTO:-0800
TZOFFSETFROM:-0700
RRULE:FREQ=YEARLY;BYMONTH=11;BYDAY=1SU
END:STANDARD
BEGIN:DAYLIGHT
DTSTART:19700426T100000
TZOFFSETTO:-0700
TZOFFSETFROM:-0800
RRULE:FREQ=YEARLY;BYMONTH=3;BYDAY=2SU
END:DAYLIGHT
END:VTIMEZONE
BEGIN:VEVENT
UID:2025-ACGOC-WOMEN-S-LUNCHEON-06-12-2025
DTSTART;TZID=America/Los_Angeles:20250612T114531
DTEND;TZID=America/Los_Angeles:20250612T131554
STATUS:CONFIRMED
SUMMARY:2025 ACGOC | Women's Luncheon | 06.12.2025
DESCRIPTION:
LOCATION:The Capital Grille\n3333 Bristol Street\nCosta Mesa\\, CA 92626
URL:https://www.acg.org/occ/events/2025-acgoc-womens-luncheon-06122025
DTSTAMP:20260421T182000Z
END:VEVENT
END:VCALENDAR
