BEGIN:VCALENDAR
VERSION:2.0
PRODID:-//ACG//Events//EN
CALSCALE:GREGORIAN
METHOD:PUBLISH
BEGIN:VTIMEZONE
TZID:America/Los_Angeles
BEGIN:STANDARD
DTSTART:19701025T090000
TZOFFSETTO:-0800
TZOFFSETFROM:-0700
RRULE:FREQ=YEARLY;BYMONTH=11;BYDAY=1SU
END:STANDARD
BEGIN:DAYLIGHT
DTSTART:19700426T100000
TZOFFSETTO:-0700
TZOFFSETFROM:-0800
RRULE:FREQ=YEARLY;BYMONTH=3;BYDAY=2SU
END:DAYLIGHT
END:VTIMEZONE
BEGIN:VEVENT
UID:ACG-LOS-ANGELES-DONUTS-TOPGOLF-SEPTEMBER-2025
DTSTART;TZID=America/Los_Angeles:20250925T100020
DTEND;TZID=America/Los_Angeles:20250925T120037
STATUS:CONFIRMED
SUMMARY:ACG Los Angeles | Donuts & Topgolf\, September 2025
DESCRIPTION:
LOCATION:Topgolf El Segundo\n400 Pacific Coast Highway\nEl Segundo\\, 
 CA 90245
URL:https://www.acg.org/los-angeles/events/acg-los-angeles-donuts-topg
 olf-september-2025
DTSTAMP:20260421T031245Z
END:VEVENT
END:VCALENDAR
