BEGIN:VCALENDAR
VERSION:2.0
PRODID:-//ACG//Events//EN
CALSCALE:GREGORIAN
METHOD:PUBLISH
BEGIN:VTIMEZONE
TZID:America/New_York
BEGIN:STANDARD
DTSTART:19701025T060000
TZOFFSETTO:-0500
TZOFFSETFROM:-0400
RRULE:FREQ=YEARLY;BYMONTH=11;BYDAY=1SU
END:STANDARD
BEGIN:DAYLIGHT
DTSTART:19700426T070000
TZOFFSETTO:-0400
TZOFFSETFROM:-0500
RRULE:FREQ=YEARLY;BYMONTH=3;BYDAY=2SU
END:DAYLIGHT
END:VTIMEZONE
BEGIN:VEVENT
UID:2025-ACG-NJ-IN-HOUSE-COUNSEL-JUNE-10
DTSTART;TZID=America/New_York:20250610T173024
DTEND;TZID=America/New_York:20250610T203051
STATUS:CONFIRMED
SUMMARY:2025 ACG NJ In-house Counsel June 10
DESCRIPTION:
URL:https://www.acg.org/newjersey/events/2025-acg-nj-house-counsel-june-10
DTSTAMP:20260421T182038Z
END:VEVENT
END:VCALENDAR
