BEGIN:VCALENDAR
VERSION:2.0
PRODID:-//ACG//Events//EN
CALSCALE:GREGORIAN
METHOD:PUBLISH
BEGIN:VTIMEZONE
TZID:America/New_York
BEGIN:STANDARD
DTSTART:19701025T060000
TZOFFSETTO:-0500
TZOFFSETFROM:-0400
RRULE:FREQ=YEARLY;BYMONTH=11;BYDAY=1SU
END:STANDARD
BEGIN:DAYLIGHT
DTSTART:19700426T070000
TZOFFSETTO:-0400
TZOFFSETFROM:-0500
RRULE:FREQ=YEARLY;BYMONTH=3;BYDAY=2SU
END:DAYLIGHT
END:VTIMEZONE
BEGIN:VEVENT
UID:ACG-NJ-DATA-PRIVACY-MAY-7-2025-WEBINAR
DTSTART;TZID=America/New_York:20250507T090005
DTEND;TZID=America/New_York:20250507T100002
STATUS:CONFIRMED
SUMMARY:ACG NJ Data Privacy May 7\, 2025 Webinar
DESCRIPTION:
URL:https://www.acg.org/newjersey/events/acg-nj-data-privacy-may-7-202
 5-webinar
DTSTAMP:20260422T015348Z
END:VEVENT
END:VCALENDAR
