BEGIN:VCALENDAR
VERSION:2.0
PRODID:-//ACG//Events//EN
CALSCALE:GREGORIAN
METHOD:PUBLISH
BEGIN:VTIMEZONE
TZID:America/Chicago
BEGIN:STANDARD
DTSTART:19701025T070000
TZOFFSETTO:-0600
TZOFFSETFROM:-0500
RRULE:FREQ=YEARLY;BYMONTH=11;BYDAY=1SU
END:STANDARD
BEGIN:DAYLIGHT
DTSTART:19700426T080000
TZOFFSETTO:-0500
TZOFFSETFROM:-0600
RRULE:FREQ=YEARLY;BYMONTH=3;BYDAY=2SU
END:DAYLIGHT
END:VTIMEZONE
BEGIN:VEVENT
UID:145061
DTSTART;TZID=America/Chicago:20250508T180000
DTEND;TZID=America/Chicago:20250508T210000
STATUS:CONFIRMED
SUMMARY:16th Annual ACG Louisiana Awards Dinner
DESCRIPTION:
LOCATION:Roosevelt Hotel\, New Orleans\n
URL:https://www.acg.org/louisiana/events/16th-annual-acg-louisiana-awa
 rds-dinner
DTSTAMP:20260422T000238Z
END:VEVENT
END:VCALENDAR
