BEGIN:VCALENDAR
VERSION:2.0
PRODID:-//ACG//Events//EN
CALSCALE:GREGORIAN
METHOD:PUBLISH
BEGIN:VTIMEZONE
TZID:America/New_York
BEGIN:STANDARD
DTSTART:19701025T060000
TZOFFSETTO:-0500
TZOFFSETFROM:-0400
RRULE:FREQ=YEARLY;BYMONTH=11;BYDAY=1SU
END:STANDARD
BEGIN:DAYLIGHT
DTSTART:19700426T070000
TZOFFSETTO:-0400
TZOFFSETFROM:-0500
RRULE:FREQ=YEARLY;BYMONTH=3;BYDAY=2SU
END:DAYLIGHT
END:VTIMEZONE
BEGIN:VEVENT
UID:2025-ACG-NY-FORWARD-SERIES-JUNE-EDITION-INAUGURAL-MIDDLE-MARKET-PA
 DEL-CLASSIC
DTSTART;TZID=America/New_York:20250610T180044
DTEND;TZID=America/New_York:20250610T200044
STATUS:CONFIRMED
SUMMARY:2025 ACG NY Forward Series - June Edition | Inaugural Middle M
 arket Padel Classic
DESCRIPTION:
LOCATION:Reserve Padel – Hudson Yards\n360 10th Avenue\nNew York\\, 
 NY 10001
URL:https://www.acg.org/nyc/events/2025-acg-ny-forward-series-june-edi
 tion-inaugural-middle-market-padel-classic
DTSTAMP:20260421T201925Z
END:VEVENT
END:VCALENDAR
