BEGIN:VCALENDAR
VERSION:2.0
PRODID:-//ACG//Events//EN
CALSCALE:GREGORIAN
METHOD:PUBLISH
BEGIN:VTIMEZONE
TZID:America/Chicago
BEGIN:STANDARD
DTSTART:19701025T070000
TZOFFSETTO:-0600
TZOFFSETFROM:-0500
RRULE:FREQ=YEARLY;BYMONTH=11;BYDAY=1SU
END:STANDARD
BEGIN:DAYLIGHT
DTSTART:19700426T080000
TZOFFSETTO:-0500
TZOFFSETFROM:-0600
RRULE:FREQ=YEARLY;BYMONTH=3;BYDAY=2SU
END:DAYLIGHT
END:VTIMEZONE
BEGIN:VEVENT
UID:2025-STL-END-OF-SUMMER-SOCIAL-MEMBERS-ONLY
DTSTART;TZID=America/Chicago:20250724T163054
DTEND;TZID=America/Chicago:20250724T183054
STATUS:CONFIRMED
SUMMARY:2025 STL | Summer Social (Members Only)
DESCRIPTION:
LOCATION:Herbie's\n8100 Maryland Avenue\nClayton\\, MO 63105
URL:https://www.acg.org/stlouis/events/2025-stl-summer-social-members-only
DTSTAMP:20260421T123955Z
END:VEVENT
END:VCALENDAR
