BEGIN:VCALENDAR
VERSION:2.0
PRODID:-//ACG//Events//EN
CALSCALE:GREGORIAN
METHOD:PUBLISH
BEGIN:VTIMEZONE
TZID:America/Los_Angeles
BEGIN:STANDARD
DTSTART:19701025T090000
TZOFFSETTO:-0800
TZOFFSETFROM:-0700
RRULE:FREQ=YEARLY;BYMONTH=11;BYDAY=1SU
END:STANDARD
BEGIN:DAYLIGHT
DTSTART:19700426T100000
TZOFFSETTO:-0700
TZOFFSETFROM:-0800
RRULE:FREQ=YEARLY;BYMONTH=3;BYDAY=2SU
END:DAYLIGHT
END:VTIMEZONE
BEGIN:VEVENT
UID:ACGOC-2025-INLAND-EMPIRE-BUSINESS-UNPLUGGED-MURIETTA-HOT-SPRINGS-E
 DITION-05-14-25
DTSTART;TZID=America/Los_Angeles:20250514T133044
DTEND;TZID=America/Los_Angeles:20250514T160044
STATUS:CONFIRMED
SUMMARY:ACGOC 2025 | Inland Empire Business Unplugged: Murietta Hot Sp
 rings Edition | 05.14.25
DESCRIPTION:
LOCATION:Murrieta Hot Springs Resort & Spa\n39405 Murrieta Hot Springs
  Road\nMurrieta\\, CA 92563
URL:https://www.acg.org/inlandempire/events/acgoc-2025-inland-empire-b
 usiness-unplugged-murietta-hot-springs-edition-051425
DTSTAMP:20260421T221309Z
END:VEVENT
END:VCALENDAR
