BEGIN:VCALENDAR
VERSION:2.0
PRODID:-//ACG//Events//EN
CALSCALE:GREGORIAN
METHOD:PUBLISH
BEGIN:VTIMEZONE
TZID:America/New_York
BEGIN:STANDARD
DTSTART:19701025T060000
TZOFFSETTO:-0500
TZOFFSETFROM:-0400
RRULE:FREQ=YEARLY;BYMONTH=11;BYDAY=1SU
END:STANDARD
BEGIN:DAYLIGHT
DTSTART:19700426T070000
TZOFFSETTO:-0400
TZOFFSETFROM:-0500
RRULE:FREQ=YEARLY;BYMONTH=3;BYDAY=2SU
END:DAYLIGHT
END:VTIMEZONE
BEGIN:VEVENT
UID:ACG-CT-HARTFORD-HAPPY-HOUR-JUNE-2025
DTSTART;TZID=America/New_York:20250612T170014
DTEND;TZID=America/New_York:20250612T190014
STATUS:CONFIRMED
SUMMARY:ACG CT | Hartford Happy Hour\, June 2025
DESCRIPTION:
LOCATION:Tumble Brook Country Club\n376 Simsbury Road\nBloomfield\\, C
 T 06002
URL:https://www.acg.org/connecticut/events/acg-ct-hartford-happy-hour-
 june-2025
DTSTAMP:20260421T182038Z
END:VEVENT
END:VCALENDAR
