BEGIN:VCALENDAR
VERSION:2.0
PRODID:-//ACG//Events//EN
CALSCALE:GREGORIAN
METHOD:PUBLISH
BEGIN:VTIMEZONE
TZID:America/New_York
BEGIN:STANDARD
DTSTART:19701025T060000
TZOFFSETTO:-0500
TZOFFSETFROM:-0400
RRULE:FREQ=YEARLY;BYMONTH=11;BYDAY=1SU
END:STANDARD
BEGIN:DAYLIGHT
DTSTART:19700426T070000
TZOFFSETTO:-0400
TZOFFSETFROM:-0500
RRULE:FREQ=YEARLY;BYMONTH=3;BYDAY=2SU
END:DAYLIGHT
END:VTIMEZONE
BEGIN:VEVENT
UID:2025-ACG-BOSTON-PROVIDENCE-SUMMER-NETWORKING-NIGHT
DTSTART;TZID=America/New_York:20250723T170056
DTEND;TZID=America/New_York:20250723T193003
STATUS:CONFIRMED
SUMMARY:2025 ACG Boston: Providence Summer Networking Night
DESCRIPTION:
LOCATION:Blu Violet Rooftop Bar\n191 Dorrance Street\nProvidence\\, RI
  02903
URL:https://www.acg.org/boston/events/2025-acg-boston-providence-summe
 r-networking-night
DTSTAMP:20260421T143648Z
END:VEVENT
END:VCALENDAR
