BEGIN:VCALENDAR
VERSION:2.0
PRODID:-//ACG//Events//EN
CALSCALE:GREGORIAN
METHOD:PUBLISH
BEGIN:VTIMEZONE
TZID:America/New_York
BEGIN:STANDARD
DTSTART:19701025T060000
TZOFFSETTO:-0500
TZOFFSETFROM:-0400
RRULE:FREQ=YEARLY;BYMONTH=11;BYDAY=1SU
END:STANDARD
BEGIN:DAYLIGHT
DTSTART:19700426T070000
TZOFFSETTO:-0400
TZOFFSETFROM:-0500
RRULE:FREQ=YEARLY;BYMONTH=3;BYDAY=2SU
END:DAYLIGHT
END:VTIMEZONE
BEGIN:VEVENT
UID:JUN-2025-RALEIGH-DURHAM-AN-EVENING-WITH-THE-BOARD
DTSTART;TZID=America/New_York:20250617T163032
DTEND;TZID=America/New_York:20250617T180032
STATUS:CONFIRMED
SUMMARY:JUN 2025 Raleigh-Durham | An Evening with the Board
DESCRIPTION:
LOCATION:The Iron Oaks\n3800 Glenwood Avenue\nRaleigh\\, NC 27612
URL:https://www.acg.org/raleighdurham/events/jun-2025-raleigh-durham-e
 vening-board
DTSTAMP:20260421T181745Z
END:VEVENT
END:VCALENDAR
