BEGIN:VCALENDAR
VERSION:2.0
PRODID:-//ACG//Events//EN
CALSCALE:GREGORIAN
METHOD:PUBLISH
BEGIN:VTIMEZONE
TZID:America/Edmonton
BEGIN:STANDARD
DTSTART:19700101T060000
TZOFFSETTO:-0700
TZOFFSETFROM:-0700
END:STANDARD
END:VTIMEZONE
BEGIN:VEVENT
UID:145148
DTSTART;TZID=America/Edmonton:20250625T163000
DTEND;TZID=America/Edmonton:20250625T190000
STATUS:CONFIRMED
SUMMARY:Summer Social & Reducing Cross Border Risk
DESCRIPTION:
LOCATION:Double Dragon Events Hall\nDouble Dragon Events Hall\n10524 J
 asper Ave\nEdmonton\\, AB T5J 1Z7
URL:https://www.acg.org/edmonton/events/summer-social-reducing-cross-b
 order-risk
DTSTAMP:20260423T120202Z
END:VEVENT
END:VCALENDAR
