BEGIN:VCALENDAR
VERSION:2.0
PRODID:-//ACG//Events//EN
CALSCALE:GREGORIAN
METHOD:PUBLISH
BEGIN:VTIMEZONE
TZID:US/Mountain
BEGIN:STANDARD
DTSTART:19701025T080000
TZOFFSETTO:-0700
TZOFFSETFROM:-0600
RRULE:FREQ=YEARLY;BYMONTH=11;BYDAY=1SU
END:STANDARD
BEGIN:DAYLIGHT
DTSTART:19700426T090000
TZOFFSETTO:-0600
TZOFFSETFROM:-0700
RRULE:FREQ=YEARLY;BYMONTH=3;BYDAY=2SU
END:DAYLIGHT
END:VTIMEZONE
BEGIN:VEVENT
UID:WPN-JUNE-2025-SUMMER-SOCIAL
DTSTART;TZID=US/Mountain:20250626T163053
DTEND;TZID=US/Mountain:20250626T183010
STATUS:CONFIRMED
SUMMARY:WPN June 2025 Summer Social
DESCRIPTION:
LOCATION:WAREHOUSE Motorclub\n4413 North Forestdale Drive\nPark City\\
 , UT 84098
URL:https://www.acg.org/utah/events/wpn-june-2025-summer-social
DTSTAMP:20260419T143233Z
END:VEVENT
END:VCALENDAR
