BEGIN:VCALENDAR
VERSION:2.0
PRODID:-//ACG//Events//EN
CALSCALE:GREGORIAN
METHOD:PUBLISH
BEGIN:VTIMEZONE
TZID:US/Mountain
BEGIN:STANDARD
DTSTART:19701025T080000
TZOFFSETTO:-0700
TZOFFSETFROM:-0600
RRULE:FREQ=YEARLY;BYMONTH=11;BYDAY=1SU
END:STANDARD
BEGIN:DAYLIGHT
DTSTART:19700426T090000
TZOFFSETTO:-0600
TZOFFSETFROM:-0700
RRULE:FREQ=YEARLY;BYMONTH=3;BYDAY=2SU
END:DAYLIGHT
END:VTIMEZONE
BEGIN:VEVENT
UID:YOUNG-ACG-UTAH-MENTORSHIP-LUNCH
DTSTART;TZID=US/Mountain:20250626T113010
DTEND;TZID=US/Mountain:20250626T130022
STATUS:CONFIRMED
SUMMARY:Young ACG Utah Mentorship Lunch
DESCRIPTION:
LOCATION:KeyBank\n36 South State Street\nSalt Lake City\\, UT 84111
URL:https://www.acg.org/utah/events/young-acg-utah-mentorship-lunch
DTSTAMP:20260419T151513Z
END:VEVENT
END:VCALENDAR
