BEGIN:VCALENDAR
VERSION:2.0
PRODID:-//ACG//Events//EN
CALSCALE:GREGORIAN
METHOD:PUBLISH
BEGIN:VTIMEZONE
TZID:America/New_York
BEGIN:STANDARD
DTSTART:19701025T060000
TZOFFSETTO:-0500
TZOFFSETFROM:-0400
RRULE:FREQ=YEARLY;BYMONTH=11;BYDAY=1SU
END:STANDARD
BEGIN:DAYLIGHT
DTSTART:19700426T070000
TZOFFSETTO:-0400
TZOFFSETFROM:-0500
RRULE:FREQ=YEARLY;BYMONTH=3;BYDAY=2SU
END:DAYLIGHT
END:VTIMEZONE
BEGIN:VEVENT
UID:2025-KTY-ECON-ORG-CEOS-PLOT-LOUISVILLE-GROWTH-JUNE-5
DTSTART;TZID=America/New_York:20250605T082022
DTEND;TZID=America/New_York:20250605T100113
STATUS:CONFIRMED
SUMMARY:2025 KTY - Econ Org CEOs Plot Louisville Growth - June 5
DESCRIPTION:
LOCATION:Big Spring Country Club\n5901 Dutchmans Lane\nLouisville\\, K
 Y 40205
URL:https://www.acg.org/kentucky/events/2025-kty-econ-org-ceos-plot-lo
 uisville-growth-june-5
DTSTAMP:20260421T221017Z
END:VEVENT
END:VCALENDAR
