BEGIN:VCALENDAR
VERSION:2.0
PRODID:-//ACG//Events//EN
CALSCALE:GREGORIAN
METHOD:PUBLISH
BEGIN:VTIMEZONE
TZID:America/Chicago
BEGIN:STANDARD
DTSTART:19701025T070000
TZOFFSETTO:-0600
TZOFFSETFROM:-0500
RRULE:FREQ=YEARLY;BYMONTH=11;BYDAY=1SU
END:STANDARD
BEGIN:DAYLIGHT
DTSTART:19700426T080000
TZOFFSETTO:-0500
TZOFFSETFROM:-0600
RRULE:FREQ=YEARLY;BYMONTH=3;BYDAY=2SU
END:DAYLIGHT
END:VTIMEZONE
BEGIN:VEVENT
UID:061825-ACG-TN-SUMMER-SOCIAL
DTSTART;TZID=America/Chicago:20250618T170033
DTEND;TZID=America/Chicago:20250618T200051
STATUS:CONFIRMED
SUMMARY:061825 ACG TN Summer Social
DESCRIPTION:
URL:https://www.acg.org/tennessee/events/061825-acg-tn-summer-social
DTSTAMP:20260421T163645Z
END:VEVENT
END:VCALENDAR
