BEGIN:VCALENDAR
VERSION:2.0
PRODID:-//ACG//Events//EN
CALSCALE:GREGORIAN
METHOD:PUBLISH
BEGIN:VTIMEZONE
TZID:America/Phoenix
BEGIN:STANDARD
DTSTART:19700101T060000
TZOFFSETTO:-0700
TZOFFSETFROM:-0700
END:STANDARD
END:VTIMEZONE
BEGIN:VEVENT
UID:ASPIRING-YOUNG-DEALMAKERS-2025
DTSTART;TZID=America/Phoenix:20250617T170054
DTEND;TZID=America/Phoenix:20250617T190054
STATUS:CONFIRMED
SUMMARY:Aspiring Young Dealmakers 2025
DESCRIPTION:
URL:https://www.acg.org/arizona/events/aspiring-young-dealmakers-2025
DTSTAMP:20260421T181856Z
END:VEVENT
END:VCALENDAR
