BEGIN:VCALENDAR
VERSION:2.0
PRODID:-//ACG//Events//EN
CALSCALE:GREGORIAN
METHOD:PUBLISH
BEGIN:VTIMEZONE
TZID:America/Chicago
BEGIN:STANDARD
DTSTART:19701025T070000
TZOFFSETTO:-0600
TZOFFSETFROM:-0500
RRULE:FREQ=YEARLY;BYMONTH=11;BYDAY=1SU
END:STANDARD
BEGIN:DAYLIGHT
DTSTART:19700426T080000
TZOFFSETTO:-0500
TZOFFSETFROM:-0600
RRULE:FREQ=YEARLY;BYMONTH=3;BYDAY=2SU
END:DAYLIGHT
END:VTIMEZONE
BEGIN:VEVENT
UID:062625-ACG-TN-MONTHLY-MEETING-FEATURING-BILL-COURTNEY
DTSTART;TZID=America/Chicago:20250626T170059
DTEND;TZID=America/Chicago:20250626T190059
STATUS:CONFIRMED
SUMMARY:062625 ACG TN Monthly Meeting\, featuring Bill Courtney
DESCRIPTION:
URL:https://www.acg.org/tennessee/events/062625-acg-tn-monthly-meeting
 -featuring-bill-courtney
DTSTAMP:20260423T123604Z
END:VEVENT
END:VCALENDAR
