BEGIN:VCALENDAR
VERSION:2.0
PRODID:-//ACG//Events//EN
CALSCALE:GREGORIAN
METHOD:PUBLISH
BEGIN:VTIMEZONE
TZID:America/New_York
BEGIN:STANDARD
DTSTART:19701025T060000
TZOFFSETTO:-0500
TZOFFSETFROM:-0400
RRULE:FREQ=YEARLY;BYMONTH=11;BYDAY=1SU
END:STANDARD
BEGIN:DAYLIGHT
DTSTART:19700426T070000
TZOFFSETTO:-0400
TZOFFSETFROM:-0500
RRULE:FREQ=YEARLY;BYMONTH=3;BYDAY=2SU
END:DAYLIGHT
END:VTIMEZONE
BEGIN:VEVENT
UID:ACG-COLUMBUS-JUNE-BREAKFAST-NAVIGATING-TARIFF-AND-TRADE-SHIFTS
DTSTART;TZID=America/New_York:20250617T073022
DTEND;TZID=America/New_York:20250617T090022
STATUS:CONFIRMED
SUMMARY:ACG Columbus June Breakfast: Navigating Tariff and Trade Shifts
DESCRIPTION:
LOCATION:Brookside Golf and Country Club\n2770 West Granville Road\nCo
 lumbus\\, OH 43235
URL:https://www.acg.org/columbus/events/acg-columbus-june-breakfast-na
 vigating-tariff-and-trade-shifts
DTSTAMP:20260421T181858Z
END:VEVENT
END:VCALENDAR
