BEGIN:VCALENDAR
VERSION:2.0
PRODID:-//ACG//Events//EN
CALSCALE:GREGORIAN
METHOD:PUBLISH
BEGIN:VTIMEZONE
TZID:America/Chicago
BEGIN:STANDARD
DTSTART:19701025T070000
TZOFFSETTO:-0600
TZOFFSETFROM:-0500
RRULE:FREQ=YEARLY;BYMONTH=11;BYDAY=1SU
END:STANDARD
BEGIN:DAYLIGHT
DTSTART:19700426T080000
TZOFFSETTO:-0500
TZOFFSETFROM:-0600
RRULE:FREQ=YEARLY;BYMONTH=3;BYDAY=2SU
END:DAYLIGHT
END:VTIMEZONE
BEGIN:VEVENT
UID:100225-ACG-TN-ANNUAL-BOURBON-TASTING
DTSTART;TZID=America/Chicago:20251002T170030
DTEND;TZID=America/Chicago:20251002T200039
STATUS:CONFIRMED
SUMMARY:100225 ACG TN Annual Bourbon Tasting
DESCRIPTION:
LOCATION:501 Commerce Street\, Nashville TN\n501 Commerce Street\nNash
 ville\\, TN 37203
URL:https://www.acg.org/tennessee/events/100225-acg-tn-annual-bourbon-
 tasting
DTSTAMP:20260421T011813Z
END:VEVENT
END:VCALENDAR
