BEGIN:VCALENDAR
VERSION:2.0
PRODID:-//ACG//Events//EN
CALSCALE:GREGORIAN
METHOD:PUBLISH
BEGIN:VTIMEZONE
TZID:America/Chicago
BEGIN:STANDARD
DTSTART:19701025T070000
TZOFFSETTO:-0600
TZOFFSETFROM:-0500
RRULE:FREQ=YEARLY;BYMONTH=11;BYDAY=1SU
END:STANDARD
BEGIN:DAYLIGHT
DTSTART:19700426T080000
TZOFFSETTO:-0500
TZOFFSETFROM:-0600
RRULE:FREQ=YEARLY;BYMONTH=3;BYDAY=2SU
END:DAYLIGHT
END:VTIMEZONE
BEGIN:VEVENT
UID:2025-ACG-WI-SOCIAL-AT-BROKEN-BAT-BREWERY-CO
DTSTART;TZID=America/Chicago:20250618T170008
DTEND;TZID=America/Chicago:20250618T190035
STATUS:CONFIRMED
SUMMARY:2025 ACG WI NextGen | Social at Broken Bat Brewing Co.
DESCRIPTION:
LOCATION:Broken Bat Brewing Co.\n135 East Pittsburgh Avenue\nMilwaukee
 \\, WI 53204
URL:https://www.acg.org/wisconsin/events/2025-acg-wi-nextgen-social-br
 oken-bat-brewing-co
DTSTAMP:20260421T163644Z
END:VEVENT
END:VCALENDAR
