BEGIN:VCALENDAR
VERSION:2.0
PRODID:-//ACG//Events//EN
CALSCALE:GREGORIAN
METHOD:PUBLISH
BEGIN:VTIMEZONE
TZID:America/New_York
BEGIN:STANDARD
DTSTART:19701025T060000
TZOFFSETTO:-0500
TZOFFSETFROM:-0400
RRULE:FREQ=YEARLY;BYMONTH=11;BYDAY=1SU
END:STANDARD
BEGIN:DAYLIGHT
DTSTART:19700426T070000
TZOFFSETTO:-0400
TZOFFSETFROM:-0500
RRULE:FREQ=YEARLY;BYMONTH=3;BYDAY=2SU
END:DAYLIGHT
END:VTIMEZONE
BEGIN:VEVENT
UID:THE-BEGINNING-STAGES-SETTING-THE-STAGE-FOR-AN-M-A-DEAL
DTSTART;TZID=America/New_York:20250610T113038
DTEND;TZID=America/New_York:20250610T133048
STATUS:CONFIRMED
SUMMARY:Navigating the Deal: Preparing for the Sale (Before\, During\,
  and After the Sale – Part 1)
DESCRIPTION:
LOCATION:Shutts & Bowen LLP\n300 South Orange Avenue\nOrlando\\, FL 32801
URL:https://www.acg.org/orlando/events/navigating-deal-preparing-sale-
 during-and-after-sale-part-1
DTSTAMP:20260421T181746Z
END:VEVENT
END:VCALENDAR
