BEGIN:VCALENDAR
VERSION:2.0
PRODID:-//ACG//Events//EN
CALSCALE:GREGORIAN
METHOD:PUBLISH
BEGIN:VTIMEZONE
TZID:America/Los_Angeles
BEGIN:STANDARD
DTSTART:19701025T090000
TZOFFSETTO:-0800
TZOFFSETFROM:-0700
RRULE:FREQ=YEARLY;BYMONTH=11;BYDAY=1SU
END:STANDARD
BEGIN:DAYLIGHT
DTSTART:19700426T100000
TZOFFSETTO:-0700
TZOFFSETFROM:-0800
RRULE:FREQ=YEARLY;BYMONTH=3;BYDAY=2SU
END:DAYLIGHT
END:VTIMEZONE
BEGIN:VEVENT
UID:ACGIE-INLAND-EMPIRE-NEXTGEN-HAPPY-HOUR-CRAFTING-CONNECTIONS-FOR-YO
 UNG-PROFESSIONALS-06-12-2025
DTSTART;TZID=America/Los_Angeles:20250612T163039
DTEND;TZID=America/Los_Angeles:20250612T183028
STATUS:CONFIRMED
SUMMARY:ACGIE | Inland Empire NextGen Happy Hour: Crafting Connections
  for Young Professionals! | 06.12.2025
DESCRIPTION:
LOCATION:Smoke and Fire Social Eatery\n5225 Canyon Crest Drive\nRivers
 ide\\, CA 92507
URL:https://www.acg.org/occ/events/acgie-inland-empire-nextgen-happy-h
 our-crafting-connections-young-professionals-06122025
DTSTAMP:20260421T181821Z
END:VEVENT
END:VCALENDAR
