BEGIN:VCALENDAR
VERSION:2.0
PRODID:-//ACG//Events//EN
CALSCALE:GREGORIAN
METHOD:PUBLISH
BEGIN:VTIMEZONE
TZID:America/New_York
BEGIN:STANDARD
DTSTART:19701025T060000
TZOFFSETTO:-0500
TZOFFSETFROM:-0400
RRULE:FREQ=YEARLY;BYMONTH=11;BYDAY=1SU
END:STANDARD
BEGIN:DAYLIGHT
DTSTART:19700426T070000
TZOFFSETTO:-0400
TZOFFSETFROM:-0500
RRULE:FREQ=YEARLY;BYMONTH=3;BYDAY=2SU
END:DAYLIGHT
END:VTIMEZONE
BEGIN:VEVENT
UID:NAVIGATING-THE-DEAL-WORKING-THROUGH-THE-DEAL-BEFORE-DURING-AND-AFT
 ER-THE-SALE-PART-2
DTSTART;TZID=America/New_York:20250729T113020
DTEND;TZID=America/New_York:20250729T133033
STATUS:CONFIRMED
SUMMARY:SOLD OUT - Navigating the Deal: Working Through the Deal (Befo
 re\, During\, and After the Sale – Part 2)
DESCRIPTION:
LOCATION:Greenberg Traurig Offices\n450 South Orange Avenue\nOrlando\\
 , FL 32801
URL:https://www.acg.org/orlando/events/sold-out-navigating-deal-workin
 g-through-deal-during-and-after-sale-part-2
DTSTAMP:20260421T125558Z
END:VEVENT
END:VCALENDAR
