BEGIN:VCALENDAR
VERSION:2.0
PRODID:-//ACG//Events//EN
CALSCALE:GREGORIAN
METHOD:PUBLISH
BEGIN:VTIMEZONE
TZID:America/New_York
BEGIN:STANDARD
DTSTART:19701025T060000
TZOFFSETTO:-0500
TZOFFSETFROM:-0400
RRULE:FREQ=YEARLY;BYMONTH=11;BYDAY=1SU
END:STANDARD
BEGIN:DAYLIGHT
DTSTART:19700426T070000
TZOFFSETTO:-0400
TZOFFSETFROM:-0500
RRULE:FREQ=YEARLY;BYMONTH=3;BYDAY=2SU
END:DAYLIGHT
END:VTIMEZONE
BEGIN:VEVENT
UID:NAVIGATING-THE-DEAL-CLOSING-THE-DEAL-AND-FINAL-CONSIDERATIONS-BEFO
 RE-DURING-AND-AFTER-THE-SALE-PART-3
DTSTART;TZID=America/New_York:20250909T113037
DTEND;TZID=America/New_York:20250909T133050
STATUS:CONFIRMED
SUMMARY:Navigating the Deal: Closing the Deal and Final Considerations
  (Before\, During\, and After the Sale – Part 3)
DESCRIPTION:
LOCATION:ShuffieldLowman - 15th Floor Conference Room\n1000 Legion Pla
 ce\nOrlando\\, FL 32801
URL:https://www.acg.org/orlando/events/navigating-deal-closing-deal-an
 d-final-considerations-during-and-after-sale-part-3
DTSTAMP:20260421T070345Z
END:VEVENT
END:VCALENDAR
