BEGIN:VCALENDAR
VERSION:2.0
PRODID:-//ACG//Events//EN
CALSCALE:GREGORIAN
METHOD:PUBLISH
BEGIN:VTIMEZONE
TZID:America/New_York
BEGIN:STANDARD
DTSTART:19701025T060000
TZOFFSETTO:-0500
TZOFFSETFROM:-0400
RRULE:FREQ=YEARLY;BYMONTH=11;BYDAY=1SU
END:STANDARD
BEGIN:DAYLIGHT
DTSTART:19700426T070000
TZOFFSETTO:-0400
TZOFFSETFROM:-0500
RRULE:FREQ=YEARLY;BYMONTH=3;BYDAY=2SU
END:DAYLIGHT
END:VTIMEZONE
BEGIN:VEVENT
UID:2025NATCAPTHE-ALPHA-OMEGA-INTEGRATION-DEAL-STORY
DTSTART;TZID=America/New_York:20250917T073029
DTEND;TZID=America/New_York:20250917T093029
STATUS:CONFIRMED
SUMMARY:2025 The Alpha Omega Integration Deal Story
DESCRIPTION:
LOCATION:The Tower Club\n8000 Towers Crescent Drive\nVienna\\, VA 22182
URL:https://www.acg.org/national-capital/events/2025-alpha-omega-integ
 ration-deal-story
DTSTAMP:20260421T065856Z
END:VEVENT
END:VCALENDAR
