BEGIN:VCALENDAR
VERSION:2.0
PRODID:-//ACG//Events//EN
CALSCALE:GREGORIAN
METHOD:PUBLISH
BEGIN:VTIMEZONE
TZID:America/New_York
BEGIN:STANDARD
DTSTART:19701025T060000
TZOFFSETTO:-0500
TZOFFSETFROM:-0400
RRULE:FREQ=YEARLY;BYMONTH=11;BYDAY=1SU
END:STANDARD
BEGIN:DAYLIGHT
DTSTART:19700426T070000
TZOFFSETTO:-0400
TZOFFSETFROM:-0500
RRULE:FREQ=YEARLY;BYMONTH=3;BYDAY=2SU
END:DAYLIGHT
END:VTIMEZONE
BEGIN:VEVENT
UID:THE-COFFEE-COLLECTIVE-JUNE-18
DTSTART;TZID=America/New_York:20250618T080047
DTEND;TZID=America/New_York:20250618T093000
STATUS:CONFIRMED
SUMMARY:The Coffee Collective - June 18
DESCRIPTION:
LOCATION:HealthEdge Investment Partners\, LLC\n5550 Executive Drive\nT
 ampa\\, FL 33609
URL:https://www.acg.org/tampabay/events/coffee-collective-june-18
DTSTAMP:20260421T182827Z
END:VEVENT
END:VCALENDAR
